BEGIN:VCALENDAR
VERSION:2.0
PRODID:-//Universidad de San Buenaventura - ECPv6.15.11//NONSGML v1.0//EN
CALSCALE:GREGORIAN
METHOD:PUBLISH
X-ORIGINAL-URL:https://usbcali.edu.co
X-WR-CALDESC:Eventos para Universidad de San Buenaventura
REFRESH-INTERVAL;VALUE=DURATION:PT1H
X-Robots-Tag:noindex
X-PUBLISHED-TTL:PT1H
BEGIN:VTIMEZONE
TZID:America/Bogota
BEGIN:STANDARD
TZOFFSETFROM:-0500
TZOFFSETTO:-0500
TZNAME:-05
DTSTART:20250101T000000
END:STANDARD
END:VTIMEZONE
BEGIN:VTIMEZONE
TZID:America/New_York
BEGIN:DAYLIGHT
TZOFFSETFROM:-0500
TZOFFSETTO:-0400
TZNAME:EDT
DTSTART:20250309T070000
END:DAYLIGHT
BEGIN:STANDARD
TZOFFSETFROM:-0400
TZOFFSETTO:-0500
TZNAME:EST
DTSTART:20251102T060000
END:STANDARD
BEGIN:DAYLIGHT
TZOFFSETFROM:-0500
TZOFFSETTO:-0400
TZNAME:EDT
DTSTART:20260308T070000
END:DAYLIGHT
BEGIN:STANDARD
TZOFFSETFROM:-0400
TZOFFSETTO:-0500
TZNAME:EST
DTSTART:20261101T060000
END:STANDARD
BEGIN:DAYLIGHT
TZOFFSETFROM:-0500
TZOFFSETTO:-0400
TZNAME:EDT
DTSTART:20270314T070000
END:DAYLIGHT
BEGIN:STANDARD
TZOFFSETFROM:-0400
TZOFFSETTO:-0500
TZNAME:EST
DTSTART:20271107T060000
END:STANDARD
END:VTIMEZONE
BEGIN:VEVENT
DTSTART;TZID=America/Bogota:20260505T080000
DTEND;TZID=America/Bogota:20260505T170000
DTSTAMP:20260420T165907
CREATED:20260415T222725Z
LAST-MODIFIED:20260415T222725Z
UID:10000055-1777968000-1778000400@usbcali.edu.co
SUMMARY:Ruta del dinero
DESCRIPTION:¿Aún no sabes qué estudiar? Esto te puede cambiar TODO 👇 \n💸🌎 Finanzas y Negocios Internacionales no es solo una carrera…\nes aprender a tener el control de tu dinero\, tu vida y tu futuro \n🚀 En la USB Cali puedes empezar desde YA a construir algo grande\n📅 Martes 5 de mayo\n⏰ 3:00 p.m.\n📍 Presencial – USB Cali\n⚠️ CUPOS LIMITADOS\n📲 *Inscríbete aquí: https://forms.office.com/r/5ijBj1u862* \n🔥 Tu futuro no se improvisa… se decide hoy
URL:https://usbcali.edu.co/evento/ruta-del-dinero/
CATEGORIES:Académico
ATTACH;FMTTYPE=image/png:https://usbcali.edu.co/wp-content/uploads/2026/04/EVENTO_RUTA_DINERO.png
END:VEVENT
BEGIN:VEVENT
DTSTART;TZID=America/Bogota:20260507T140000
DTEND;TZID=America/Bogota:20260507T180000
DTSTAMP:20260420T165908
CREATED:20260327T222734Z
LAST-MODIFIED:20260327T222734Z
UID:10000054-1778162400-1778176800@usbcali.edu.co
SUMMARY:VOX IURIS – Concurso de Oratoria
DESCRIPTION:Dirigido a estudiantes de grado 11° y 12°\n\n\nInscripciones abiertas: 30 de marzo al 8 de abril\n\n\nPrimera capacitación virtual: Introducción a la oratoria – Construcción de argumentos y herramientas retoricas: 23 de abril de 3:00 pm a 5:00 pm\n\n\nSegunda capacitación presencial: Taller presencial de oratoria y argumentación: 30 de abril de 3:00 pm a 5:00 pm\n\n\nGran final: 7 de mayo | 2:00 p.m. – 6:00 p.m.\n\n\nPrograma de Derecho – Universidad de San Buenaventura Cali\n\n\n  \nInscríbete aquí\n 
URL:https://usbcali.edu.co/evento/vox-iuris-concurso-de-oratoria/
CATEGORIES:Académico
ATTACH;FMTTYPE=image/png:https://usbcali.edu.co/wp-content/uploads/2026/03/BANNER_EVENTO_778X474-1.png
END:VEVENT
BEGIN:VEVENT
DTSTART;TZID=America/New_York:20260519T080000
DTEND;TZID=America/New_York:20260521T170000
DTSTAMP:20260420T165908
CREATED:20240904T150501Z
LAST-MODIFIED:20260414T212552Z
UID:10000022-1779177600-1779382800@usbcali.edu.co
SUMMARY:Modelo ONU de Juventudes
DESCRIPTION:El Modelo ONU de Juventudes es un espacio pedagógico para el desarrollo de habilidades de liderazgo\, argumentación\, oratoria e investigación sobre asuntos propios de las Relaciones Internacionales\, el Derecho Internacional Público\, y la Gobernanza Global\, a partir de la participación en el Modelo de las Naciones Unidas. \nPodrás acceder a una beca para cursar el Diplomado en negociación y diplomacia en las Naciones Unidas y recibir preparación personalizada\, para así participar en nuestra inmersión Modelo. \nSi deseas iniciar tus estudios en el Programa de Gobierno y Relaciones Internacionales y cuentas con la Certificación del Diplomado en negociación y diplomacia en las Naciones Unidas\, podrán solicitar la homologación de un curso del plan de estudios correspondiente a la oferta de electivas libres. \n  \nDIRIGIDO A\nEstudiantes activos en Instituciones Educativas de la Región del Pacífico Colombiano entre los grados 9° y 12°\, que deseen vivir una experiencia diplomática única que potencie sus habilidades de negociación\, el conocimiento sobre las Relaciones Internacionales. \n  \nSumérgete en los asuntos más importantes de las Relaciones Internacionales\, el Derecho Internacional Público y la Gobernanza Global. \n ¡Postúlate aquí!\n  \n  \nPODRÁS TENER UNA EXPERIENCIA QUE POTENCIARÁ TU FUTURO\n\nTe formarás en conocimientos y habilidades propias de la diplomacia y la negociación; conociendo asuntos de las relaciones internacionales\, el derecho internacional\, y la gobernanza global. \nAccederás a sesiones con expertos de la Escuela de Gobierno y Relaciones Internacionales e invitados nacionales.\nContarás con una certificación universitaria del Diplomado en negociación y diplomacia en las Naciones Unidas.\nParticiparás de tres jornadas de inmersión en nuestro Modelo ONU de juventudes donde podrás realizar una simulación de los Órganos principales y las comisiones de la Organización de Naciones Unidas\, a través de un juego de roles donde serás parte de la Representación Diplomática de un Estado.\n\n  \nFECHAS IMPORTANTES:\n  \n\n\n\nPostulaciones\n24 de marzo al 30 de abril 2026\n\n\nSelección\n06 de mayo del 2026\n\n\nInicio del Diplomado Virtual\n08 de mayo del 2026\n\n\nInmersión Presencial\n19\, 20 y 21 de mayo de 2026\n\n\n\n\n\n\nCONTÁCTANOS\nPaola Andrea Betancourt Villamil\nDirectora\nEscuela de Gobierno y Relaciones Internacionales\ndirector.gobiernoyri@usbcali.edu.co\nTeléfono: 4882222 Ext. 544 – 420 \nIsabella Marín Jiménez\nDocente\nEscuela de Gobierno y Relaciones Internacionales\nimarin@usbcali.edu.co \n 
URL:https://usbcali.edu.co/evento/modelo-onu-de-juventudes/
CATEGORIES:Académico
ATTACH;FMTTYPE=image/png:https://usbcali.edu.co/wp-content/uploads/2024/09/Banner-Evento_778x474.png
END:VEVENT
END:VCALENDAR